BEGIN:VCALENDAR
VERSION:2.0
PRODID:-//INSPECTION - ECPv6.15.20//NONSGML v1.0//EN
CALSCALE:GREGORIAN
METHOD:PUBLISH
X-WR-CALNAME:INSPECTION
X-ORIGINAL-URL:https://web-inspection.de
X-WR-CALDESC:Veranstaltungen für INSPECTION
REFRESH-INTERVAL;VALUE=DURATION:PT1H
X-Robots-Tag:noindex
X-PUBLISHED-TTL:PT1H
BEGIN:VTIMEZONE
TZID:Europe/Berlin
BEGIN:DAYLIGHT
TZOFFSETFROM:+0100
TZOFFSETTO:+0200
TZNAME:CEST
DTSTART:20220327T010000
END:DAYLIGHT
BEGIN:STANDARD
TZOFFSETFROM:+0200
TZOFFSETTO:+0100
TZNAME:CET
DTSTART:20221030T010000
END:STANDARD
BEGIN:DAYLIGHT
TZOFFSETFROM:+0100
TZOFFSETTO:+0200
TZNAME:CEST
DTSTART:20230326T010000
END:DAYLIGHT
BEGIN:STANDARD
TZOFFSETFROM:+0200
TZOFFSETTO:+0100
TZNAME:CET
DTSTART:20231029T010000
END:STANDARD
BEGIN:DAYLIGHT
TZOFFSETFROM:+0100
TZOFFSETTO:+0200
TZNAME:CEST
DTSTART:20240331T010000
END:DAYLIGHT
BEGIN:STANDARD
TZOFFSETFROM:+0200
TZOFFSETTO:+0100
TZNAME:CET
DTSTART:20241027T010000
END:STANDARD
END:VTIMEZONE
BEGIN:VEVENT
DTSTART;TZID=Europe/Berlin:20230510T090000
DTEND;TZID=Europe/Berlin:20230510T100000
DTSTAMP:20260419T202653
CREATED:20230424T110141Z
LAST-MODIFIED:20230517T073322Z
UID:560-1683709200-1683712800@web-inspection.de
SUMMARY:Beratertagung des Landes Baden-Württemberg
DESCRIPTION:Vorstellung des Forschungsprojekts INSPECTION \nDie IT-Sicherheitsbotschafter im Handwerk unterstützen Handwerksbetriebe bei IT-Sicherheitsmaßnahmen. Sie kennen ihre Branche und deren Anforderung und liefern pragmatische Lösungen für die IT-Sicherheit. \nDie Task Force „IT-Sicherheit in der Wirtschaft“ ist eine Initiative des Bundesministeriums für Wirtschaft und Technologie\, die vor allem kleine und mittelständische Unternehmen für IT-Sicherheit sensibilisieren und dabei unterstützen will\, die Sicherheit der IT-System zu verbessern. \nNeben IT-Sicherheitsbotschaftern sind bei der Veranstaltung auch Digitalisierungsberater und Berater zum Umweltthemen der Kammern. \nIn diesem Vortrag geht es um die Vertiefung und Verbreiterung des bereits bestehenden Austausches mit den IT-Sicherheitsbotschaftern im Handwerk. \n– Interne Veranstaltung –
URL:https://web-inspection.de/event/beratertagung-des-landes-baden-wuerttemberg-fuer-it-sicherheitsbotschafter/
LOCATION:Bodensee-Forum Konstanz\, Reichenaustraße 21\, Konstanz\, 78467\, Deutschland
ORGANIZER;CN="Handwerkskammer Konstanz":MAILTO:Joachim.Feist@mindup.de
END:VEVENT
END:VCALENDAR